BEGIN:VCALENDAR
VERSION:2.0
PRODID:-//ICT Pulse – The leading technology blog in the Caribbean - ECPv6.15.19//NONSGML v1.0//EN
CALSCALE:GREGORIAN
METHOD:PUBLISH
X-WR-CALNAME:ICT Pulse – The leading technology blog in the Caribbean
X-ORIGINAL-URL:https://ict-pulse.com
X-WR-CALDESC:Events for ICT Pulse – The leading technology blog in the Caribbean
REFRESH-INTERVAL;VALUE=DURATION:PT1H
X-Robots-Tag:noindex
X-PUBLISHED-TTL:PT1H
BEGIN:VTIMEZONE
TZID:America/Jamaica
BEGIN:STANDARD
TZOFFSETFROM:-0500
TZOFFSETTO:-0500
TZNAME:EST
DTSTART:20130101T000000
END:STANDARD
END:VTIMEZONE
BEGIN:VEVENT
DTSTART;TZID=America/Jamaica:20140329T090000
DTEND;TZID=America/Jamaica:20140329T150000
DTSTAMP:20260419T112150
CREATED:20140323T185058Z
LAST-MODIFIED:20140323T185058Z
UID:51414-1396083600-1396105200@ict-pulse.com
SUMMARY:SharePoint Saturday Jamaica in Kingston
DESCRIPTION:SPSJamiaca will be held at JAMPRO at 9am in the training room. \nWe have a great lineup of top speakers in the SharePoint Community\, and Microsoft is sponsoring the event. \nSpeakers include: Fabian Williams\, Naomi Moneypenny\, Joel Oleson\, Jennifer Pearce\, Roger Taylor\, Ca’roll Driskell\, and including local speakers TBD. \nWe are working on some big giveaways for attendees including CHAMPS tickets.
URL:https://ict-pulse.com/events/sharepoint-saturday-jamaica-kingston/
LOCATION:Jamaica Promotions Corporation (JAMPRO)\, 18 Trafalgar Road\, Kingston 10\, Jamaica
CATEGORIES:Computing,Jamaica,Meeting
ATTACH;FMTTYPE=image/jpeg:https://ict-pulse.com/wp-content/uploads/2014/03/SharePoint-Jamaica-Source-Eventbrite.jpg
END:VEVENT
BEGIN:VEVENT
DTSTART;TZID=America/Jamaica:20140331T090000
DTEND;TZID=America/Jamaica:20140404T170000
DTSTAMP:20260419T112150
CREATED:20140116T165536Z
LAST-MODIFIED:20140125T143315Z
UID:49073-1396256400-1396630800@ict-pulse.com
SUMMARY:CompTIA Linux+ (March 2014)
DESCRIPTION:
URL:https://ict-pulse.com/events/comptia-linux-march-2014/
LOCATION:Unnamed Venue\, Kingston\, Jamaica
CATEGORIES:Computing,Jamaica,Training Course
ATTACH;FMTTYPE=image/jpeg:https://ict-pulse.com/wp-content/uploads/2014/01/Vantage-Point-Training-January-April-2014.jpg
END:VEVENT
BEGIN:VEVENT
DTSTART;VALUE=DATE:20150817
DTEND;VALUE=DATE:20150822
DTSTAMP:20260419T112150
CREATED:20150817T181954Z
LAST-MODIFIED:20150817T183523Z
UID:78102-1439769600-1440201599@ict-pulse.com
SUMMARY:Scholarship:  Distance-learning course "Advanced Android Programming"
DESCRIPTION:Offered by:\nBlas Pascal University\n\n\nType of Course:\nOn-line\n\n\nDate(s):\nSeptember 16\, 2015 – October 23\, 2015\n\n\nNumber of scholarships:\n12 scholarships (OEA/CITEL)\n\n\nDeadline for presentation of candidacies:\nAugust 21\, 2015 – Washington\, D.C.\, United States of America
URL:https://ict-pulse.com/events/august-2015-scholarship-distance-learning-course-advanced-android-programming/
CATEGORIES:Computing,International,Training Course
ATTACH;FMTTYPE=image/jpeg:https://ict-pulse.com/wp-content/uploads/2012/12/OAS-logo.jpg
END:VEVENT
BEGIN:VEVENT
DTSTART;VALUE=DATE:20230428
DTEND;VALUE=DATE:20230429
DTSTAMP:20260419T112150
CREATED:20230225T152929Z
LAST-MODIFIED:20230611T181917Z
UID:167963-1682640000-1682726399@ict-pulse.com
SUMMARY:CTU and The Commonwealth Digital Trade Hackathon
DESCRIPTION:Details to be provided.
URL:https://ict-pulse.com/events/ctu-and-the-commonwealth-digital-trade-hackathon/
CATEGORIES:Coding/Software development,Competition,Computing
ATTACH;FMTTYPE=image/jpeg:https://ict-pulse.com/wp-content/uploads/2023/02/CTU-and-Commonwealth-Hackathon-CTU-website.jpg
END:VEVENT
END:VCALENDAR